BEGIN:VCALENDAR
VERSION:2.0
PRODID:-//pretix//pretix.eu//
BEGIN:VTIMEZONE
TZID:Europe/Berlin
BEGIN:STANDARD
DTSTART:20001029T040000
RRULE:FREQ=YEARLY;BYDAY=-1SU;BYMONTH=10
TZNAME:CET
TZOFFSETFROM:+0200
TZOFFSETTO:+0100
END:STANDARD
BEGIN:DAYLIGHT
DTSTART:20000326T030000
RRULE:FREQ=YEARLY;BYDAY=-1SU;BYMONTH=3
TZNAME:CEST
TZOFFSETFROM:+0100
TZOFFSETTO:+0200
END:DAYLIGHT
END:VTIMEZONE
BEGIN:VEVENT
UID:pretix-svlinsburg-fu-sww25-4493163@svlinsburg.vereinsticket.de
DTSTART;TZID=Europe/Berlin:20250718T190000
DTEND;TZID=Europe/Berlin:20250718T200000
DESCRIPTION:Tickets: https://svlinsburg.vereinsticket.de/fu-sww25/4493163/\
 nVeranstalter: Sportverein Linsburg von 1920 e. V.
DTSTAMP:20260422T234844Z
LOCATION:Sportülätze und Vereinsheim\, Burg\, 31636 Linsburg
SUMMARY:Grillbude
END:VEVENT
END:VCALENDAR
